BEGIN:VCALENDAR
VERSION:2.0
PRODID:-//Fundación Arturo Merino Benitez - ECPv6.3.0//NONSGML v1.0//EN
CALSCALE:GREGORIAN
METHOD:PUBLISH
X-ORIGINAL-URL:https://colegiotantauco.cl/ct2024
X-WR-CALDESC:Eventos para Fundación Arturo Merino Benitez
REFRESH-INTERVAL;VALUE=DURATION:PT1H
X-Robots-Tag:noindex
X-PUBLISHED-TTL:PT1H
BEGIN:VTIMEZONE
TZID:America/Argentina/Mendoza
BEGIN:STANDARD
TZOFFSETFROM:-0300
TZOFFSETTO:-0300
TZNAME:-03
DTSTART:20240101T000000
END:STANDARD
END:VTIMEZONE
BEGIN:VEVENT
DTSTART;TZID=America/Argentina/Mendoza:20240305T080000
DTEND;TZID=America/Argentina/Mendoza:20240401T170000
DTSTAMP:20260424T131410
CREATED:20240117T134924Z
LAST-MODIFIED:20240307T120059Z
UID:6689-1709625600-1711990800@colegiotantauco.cl
SUMMARY:Plan Lector
DESCRIPTION:(Descargue el archivo que corresponda). \n  \n1° Básico:   1AB-plan-lector-2024 \n2° Básico: 2AB-plan-lector-2024 \n3° Básico:  3AB-plan-lector-2024 \n4° Básico:  4AB-plan-lector-2024 \n5° Básico: 5AB-plan-lector-2024 \n6° Básico:  6AB-plan-lector-2024 \n7° Básico:  7AB-plan-lector-2024 \n8° Básico:  8AB-plan-lector-2024 \nI Medio: IAB-plan-lector-2024 \nII Medio: IIAB-plan-lector-2024 \nIII Medio: IIIAB-plan-lector-2024 \nIV Medio: IVAB-plan-lector-2024
URL:https://colegiotantauco.cl/ct2024/event/plan-lector-1ro-basico/
CATEGORIES:Eventos Tantauco
ATTACH;FMTTYPE=image/jpeg:https://colegiotantauco.cl/ct2024/wp-content/uploads/2024/01/Plan-Lector.jpg
END:VEVENT
BEGIN:VEVENT
DTSTART;TZID=America/Argentina/Mendoza:20240305T080000
DTEND;TZID=America/Argentina/Mendoza:20240401T170000
DTSTAMP:20260424T131410
CREATED:20240123T121352Z
LAST-MODIFIED:20240307T132840Z
UID:6867-1709625600-1711990800@colegiotantauco.cl
SUMMARY:Listas de Útiles
DESCRIPTION:Listas de Útiles \n  \nPre Kínder : Pre-kinder-AB-Lista-de-utiles-2024 \nKínder:  Kinder-AB-Lista-de-utiles-2024 \nPrimero básico: 1AB-Lista-de-utiles-2024 \nSegundo básico: 2AB-Lista-de-utiles-2024 \nTercero básico: 3AB-Lista-de-utiles-2024 \nCuarto básico: 4AB-Lista-de-utiles-2024 \nQuinto básico: 5AB-Lista-de-utiles-2024 \nSexto básico: 6AB-Lista-de-utiles-2024 \nSéptimo básico: 7AB-Lista-de-utiles-2024 \nOctavo básico: 8AB-Lista-de-utiles-2024 \nI Medio: IAB-Lista-de-utiles-2024 \nII Medio: IIAB-Lista-de-utiles-2024 \nIII Medio: IIIAB-Lista-de-utiles-2024 \nIV Medio: IVAB-Lista-de-utiles-2024
URL:https://colegiotantauco.cl/ct2024/event/lista-de-utiles-e-basica/
ATTACH;FMTTYPE=image/jpeg:https://colegiotantauco.cl/ct2024/wp-content/uploads/2024/01/LISTA-DE-UTILES-ESCOLARES-1140x694-1.jpg
END:VEVENT
BEGIN:VEVENT
DTSTART;TZID=America/Argentina/Mendoza:20240305T080000
DTEND;TZID=America/Argentina/Mendoza:20240401T170000
DTSTAMP:20260424T131410
CREATED:20240227T131703Z
LAST-MODIFIED:20240229T130513Z
UID:7093-1709625600-1711990800@colegiotantauco.cl
SUMMARY:Circular Inicio Año Escolar 2024
DESCRIPTION:Ver o Descargar: \n  \nCircular N°1 : Inicio Año Escolar 2024
URL:https://colegiotantauco.cl/ct2024/event/circular-inicio-ano-escolar-2024/
ATTACH;FMTTYPE=image/jpeg:https://colegiotantauco.cl/ct2024/wp-content/uploads/2024/02/9411475.jpg
END:VEVENT
BEGIN:VEVENT
DTSTART;TZID=America/Argentina/Mendoza:20240305T080000
DTEND;TZID=America/Argentina/Mendoza:20240401T170000
DTSTAMP:20260424T131410
CREATED:20240229T131706Z
LAST-MODIFIED:20240307T122014Z
UID:7119-1709625600-1711990800@colegiotantauco.cl
SUMMARY:Circular Funcionamiento Casino
DESCRIPTION:Ver o Descargar: \n  \nCircular: Funcionamiento Casino 2024
URL:https://colegiotantauco.cl/ct2024/event/circular-funcionamiento-casino/
LOCATION:Colegio Tantauco\, General Tovarias 385\, Santiago\, Chile
CATEGORIES:Eventos Tantauco
ATTACH;FMTTYPE=image/jpeg:https://colegiotantauco.cl/ct2024/wp-content/uploads/2024/02/kids-food-background-wallpaper-with-design-space-scaled.jpg
END:VEVENT
BEGIN:VEVENT
DTSTART;TZID=America/Argentina/Mendoza:20240326T080000
DTEND;TZID=America/Argentina/Mendoza:20240430T170000
DTSTAMP:20260424T131410
CREATED:20240326T194220Z
LAST-MODIFIED:20240326T231459Z
UID:7284-1711440000-1714496400@colegiotantauco.cl
SUMMARY:Circular Inscripción Talleres Extraprogramáticos
DESCRIPTION:Circular : https://colegiotantauco.cl/ct2024/wp-content/uploads/2024/03/TALLERES-COLEGIO-TANTAUCO-EL-BOSQUE-2024-1.pdf
URL:https://colegiotantauco.cl/ct2024/event/circular-inscripcion-talleres-extraprogramaticos/
ATTACH;FMTTYPE=image/jpeg:https://colegiotantauco.cl/ct2024/wp-content/uploads/2024/03/9284642-scaled.jpg
END:VEVENT
BEGIN:VEVENT
DTSTART;TZID=America/Argentina/Mendoza:20240404T080000
DTEND;TZID=America/Argentina/Mendoza:20240404T170000
DTSTAMP:20260424T131410
CREATED:20240404T125806Z
LAST-MODIFIED:20240404T130219Z
UID:7394-1712217600-1712250000@colegiotantauco.cl
SUMMARY:Circular: Listado Talleres Extraprogramáticos
DESCRIPTION:Circular Listado Talleres Extraprogramáticos:https://colegiotantauco.cl/ct2024/wp-content/uploads/2024/04/Listado-Talleres-2024.pdf
URL:https://colegiotantauco.cl/ct2024/event/circular-listado-talleres-extraprogramaticos/
ATTACH;FMTTYPE=image/jpeg:https://colegiotantauco.cl/ct2024/wp-content/uploads/2024/04/socialmedia_tech_14-scaled.jpg
END:VEVENT
END:VCALENDAR