BEGIN:VCALENDAR
VERSION:2.0
PRODID:-//Fundación Arturo Merino Benitez - ECPv6.3.0//NONSGML v1.0//EN
CALSCALE:GREGORIAN
METHOD:PUBLISH
X-WR-CALNAME:Fundación Arturo Merino Benitez
X-ORIGINAL-URL:https://colegiotantauco.cl/ct2024
X-WR-CALDESC:Eventos para Fundación Arturo Merino Benitez
REFRESH-INTERVAL;VALUE=DURATION:PT1H
X-Robots-Tag:noindex
X-PUBLISHED-TTL:PT1H
BEGIN:VTIMEZONE
TZID:America/Argentina/Mendoza
BEGIN:STANDARD
TZOFFSETFROM:-0300
TZOFFSETTO:-0300
TZNAME:-03
DTSTART:20250101T000000
END:STANDARD
END:VTIMEZONE
BEGIN:VEVENT
DTSTART;VALUE=DATE:20250122
DTEND;VALUE=DATE:20250401
DTSTAMP:20260422T081150
CREATED:20250122T145313Z
LAST-MODIFIED:20250122T145313Z
UID:10916-1737504000-1743465599@colegiotantauco.cl
SUMMARY:Circular Nº1 2025 - Inicio de Clases
DESCRIPTION:Circular de Inicio de Clases!!! \n  \nCIRCULAR N° 1 INICIO AÑO ESCOLAR 2025 COLEGIO TANTAUCO
URL:https://colegiotantauco.cl/ct2024/event/circular-no1-2025-inicio-de-clases/
CATEGORIES:Eventos Tantauco
END:VEVENT
BEGIN:VEVENT
DTSTART;TZID=America/Argentina/Mendoza:20250311T080000
DTEND;TZID=America/Argentina/Mendoza:20250331T170000
DTSTAMP:20260422T081150
CREATED:20250311T125050Z
LAST-MODIFIED:20250311T125149Z
UID:11064-1741680000-1743440400@colegiotantauco.cl
SUMMARY:Informativo: Funcionamiento Casino
DESCRIPTION:Informativo: Funcionamiento Casino
URL:https://colegiotantauco.cl/ct2024/event/informativo-funcionamiento-casino/
CATEGORIES:Eventos Tantauco
END:VEVENT
END:VCALENDAR