BEGIN:VCALENDAR
VERSION:2.0
PRODID:-//Fundación Arturo Merino Benitez - ECPv6.3.0//NONSGML v1.0//EN
CALSCALE:GREGORIAN
METHOD:PUBLISH
X-WR-CALNAME:Fundación Arturo Merino Benitez
X-ORIGINAL-URL:https://colegiotantauco.cl/ct2024
X-WR-CALDESC:Eventos para Fundación Arturo Merino Benitez
REFRESH-INTERVAL;VALUE=DURATION:PT1H
X-Robots-Tag:noindex
X-PUBLISHED-TTL:PT1H
BEGIN:VTIMEZONE
TZID:America/Argentina/Mendoza
BEGIN:STANDARD
TZOFFSETFROM:-0300
TZOFFSETTO:-0300
TZNAME:-03
DTSTART:20240101T000000
END:STANDARD
END:VTIMEZONE
BEGIN:VEVENT
DTSTART;TZID=America/Argentina/Mendoza:20240909T080000
DTEND;TZID=America/Argentina/Mendoza:20241129T170000
DTSTAMP:20260422T132905
CREATED:20240909T150358Z
LAST-MODIFIED:20240909T150358Z
UID:8937-1725868800-1732899600@colegiotantauco.cl
SUMMARY:Circular: Proceso de Renovación de Matrícula 2025
DESCRIPTION:Circular: Proceso de Renovación de Matrícula 2025
URL:https://colegiotantauco.cl/ct2024/event/circular-proceso-de-renovacion-de-matricula-2025/
CATEGORIES:Eventos Tantauco
ATTACH;FMTTYPE=image/png:https://colegiotantauco.cl/ct2024/wp-content/uploads/2024/09/Captura-de-pantalla-2024-06-12-155314.png
END:VEVENT
END:VCALENDAR