BEGIN:VCALENDAR
VERSION:2.0
PRODID:-//Fundación Arturo Merino Benitez - ECPv6.3.0//NONSGML v1.0//EN
CALSCALE:GREGORIAN
METHOD:PUBLISH
X-ORIGINAL-URL:https://colegiotantauco.cl/ct2024
X-WR-CALDESC:Eventos para Fundación Arturo Merino Benitez
REFRESH-INTERVAL;VALUE=DURATION:PT1H
X-Robots-Tag:noindex
X-PUBLISHED-TTL:PT1H
BEGIN:VTIMEZONE
TZID:America/Argentina/Mendoza
BEGIN:STANDARD
TZOFFSETFROM:-0300
TZOFFSETTO:-0300
TZNAME:-03
DTSTART:20240101T000000
END:STANDARD
END:VTIMEZONE
BEGIN:VEVENT
DTSTART;TZID=America/Argentina/Mendoza:20240612T080000
DTEND;TZID=America/Argentina/Mendoza:20240615T170000
DTSTAMP:20260422T200658
CREATED:20240612T200503Z
LAST-MODIFIED:20240612T200503Z
UID:8289-1718179200-1718470800@colegiotantauco.cl
SUMMARY:Comunicado : Suspensión de Clases
DESCRIPTION:Comunicado:  Suspensión de Clases https://colegiotantauco.cl/ct2024/wp-content/uploads/2024/06/2Tantauco-Comunicado-Suspension-de-clases-2.pdf
URL:https://colegiotantauco.cl/ct2024/event/comunicado-suspension-de-clases/
CATEGORIES:Eventos Tantauco
ATTACH;FMTTYPE=image/png:https://colegiotantauco.cl/ct2024/wp-content/uploads/2024/06/Captura-de-pantalla-2024-06-12-155314.png
END:VEVENT
END:VCALENDAR