BEGIN:VCALENDAR
VERSION:2.0
PRODID:-//Fundación Arturo Merino Benitez - ECPv6.3.0//NONSGML v1.0//EN
CALSCALE:GREGORIAN
METHOD:PUBLISH
X-WR-CALNAME:Fundación Arturo Merino Benitez
X-ORIGINAL-URL:https://colegiotantauco.cl/ct2024
X-WR-CALDESC:Eventos para Fundación Arturo Merino Benitez
REFRESH-INTERVAL;VALUE=DURATION:PT1H
X-Robots-Tag:noindex
X-PUBLISHED-TTL:PT1H
BEGIN:VTIMEZONE
TZID:America/Argentina/Mendoza
BEGIN:STANDARD
TZOFFSETFROM:-0300
TZOFFSETTO:-0300
TZNAME:-03
DTSTART:20240101T000000
END:STANDARD
END:VTIMEZONE
BEGIN:VEVENT
DTSTART;TZID=America/Argentina/Mendoza:20240326T080000
DTEND;TZID=America/Argentina/Mendoza:20240430T170000
DTSTAMP:20260424T131040
CREATED:20240326T194220Z
LAST-MODIFIED:20240326T231459Z
UID:7284-1711440000-1714496400@colegiotantauco.cl
SUMMARY:Circular Inscripción Talleres Extraprogramáticos
DESCRIPTION:Circular : https://colegiotantauco.cl/ct2024/wp-content/uploads/2024/03/TALLERES-COLEGIO-TANTAUCO-EL-BOSQUE-2024-1.pdf
URL:https://colegiotantauco.cl/ct2024/event/circular-inscripcion-talleres-extraprogramaticos/
ATTACH;FMTTYPE=image/jpeg:https://colegiotantauco.cl/ct2024/wp-content/uploads/2024/03/9284642-scaled.jpg
END:VEVENT
END:VCALENDAR